BEGIN:VCALENDAR
VERSION:2.0
PRODID:icalendar-ruby
CALSCALE:GREGORIAN
METHOD:PUBLISH
BEGIN:VEVENT
DTSTAMP:20260420T024904Z
UID:157-42424@russellroadchurch.com
DTSTART:20260502T223000Z
DTEND:20260503T000000Z
CLASS:PUBLIC
CREATED:20260419T121439
DESCRIPTION:Join us for a night of worship right here at Russell Road Churc
 h! Children are welcome in the sanctuary.\nMay 2nd at 6:30pm. 
LAST-MODIFIED:20260419T121439
LOCATION:Russell Road Church
SUMMARY:Night of Worship
URL;VALUE=URI:https://www.russellroadchurch.com/events/night-of-worship--15
 7/2026-05-02
ATTACH;FILENAME=Night-of-Worship-Oct.-4-2025.jpg;FMTTYPE=image/jpeg:https:/
 /dq5pwpg1q8ru0.cloudfront.net/2026/04/19/16/14/39/d19fafe9-c34d-42c4-a498-
 ded7de83e960/Night-of-Worship-Oct.-4-2025.jpg
END:VEVENT
END:VCALENDAR
