BEGIN:VCALENDAR
VERSION:2.0
PRODID:icalendar-ruby
CALSCALE:GREGORIAN
METHOD:PUBLISH
BEGIN:VEVENT
DTSTAMP:20260420T024559Z
UID:158-42425@russellroadchurch.com
DTSTART:20260509T130000Z
DTEND:20260509T170000Z
CLASS:PUBLIC
CREATED:20260419T121542
DESCRIPTION:A book\, "I Am A Church Member" is required for the class and c
 an be purchased in the church bookstore. Childcare will be provided and an
 d a light lunch will be served. If you have any questions\, please contact
  Steve Richardson.
LAST-MODIFIED:20260419T121542
LOCATION:Russell Road Church
SUMMARY:Membership Class
URL;VALUE=URI:https://www.russellroadchurch.com/events/membership-class--15
 8/2026-05-09
ATTACH;FILENAME=Membership-Class.jpg;FMTTYPE=image/jpeg:https://dq5pwpg1q8r
 u0.cloudfront.net/2026/04/19/16/15/41/0a461e6d-9052-4303-b957-6876e23b656c
 /Membership-Class.jpg
END:VEVENT
END:VCALENDAR
