BEGIN:VCALENDAR
VERSION:2.0
PRODID:icalendar-ruby
CALSCALE:GREGORIAN
METHOD:PUBLISH
BEGIN:VEVENT
DTSTAMP:20260420T023958Z
UID:161-42428@russellroadchurch.com
DTSTART:20260614T150000Z
DTEND:20260614T163000Z
CLASS:PUBLIC
CREATED:20260419T122026
DESCRIPTION:We will be honoring 2026 graduates at the 11am service. We will
  also be honoring children graduating from Children's (those just finishin
 g 5th grade) at 11am.
LAST-MODIFIED:20260419T122026
LOCATION:Russell Road Church
SUMMARY:Celebrating our Graduates & Children's Crossover
URL;VALUE=URI:https://www.russellroadchurch.com/events/celebrating-our-grad
 uates-childrens-crossover/2026-06-14
ATTACH;FILENAME=Graduates-Celebrating.jpg;FMTTYPE=image/jpeg:https://dq5pwp
 g1q8ru0.cloudfront.net/2026/04/19/16/20/26/46e72090-538b-49cd-b05c-c6384f4
 44483/Graduates-Celebrating.jpg
END:VEVENT
END:VCALENDAR
