BEGIN:VCALENDAR
VERSION:2.0
PRODID:icalendar-ruby
CALSCALE:GREGORIAN
METHOD:PUBLISH
BEGIN:VEVENT
DTSTAMP:20260420T024735Z
UID:160-42427@russellroadchurch.com
DTSTART:20260517T164000Z
DTEND:20260517T171500Z
CLASS:PUBLIC
CREATED:20260419T121836
DESCRIPTION:Calling all bikers! We want to pray over you and your ride for 
 this upcoming season!\nRide your bikes to church and join us for prayer af
 ter the 11am service on May 17\, 2026.
LAST-MODIFIED:20260419T121836
LOCATION:Russell Road Church
SUMMARY:Blessing of the Bikes
URL;VALUE=URI:https://www.russellroadchurch.com/events/blessing-of-the-bike
 s--160/2026-05-17
ATTACH;FILENAME=blessing-of-the-bikes.jpg;FMTTYPE=image/jpeg:https://dq5pwp
 g1q8ru0.cloudfront.net/2026/04/19/16/18/36/b5d99845-0e4d-44e5-bfa2-5e350e2
 f5fc8/blessing-of-the-bikes.jpg
END:VEVENT
END:VCALENDAR
