BEGIN:VCALENDAR
VERSION:2.0
PRODID:icalendar-ruby
CALSCALE:GREGORIAN
METHOD:PUBLISH
BEGIN:VEVENT
DTSTAMP:20260420T024802Z
UID:159-42429@russellroadchurch.com
DTSTART:20260517T130000Z
DTEND:20260517T163000Z
CLASS:PUBLIC
CREATED:20260419T122118
DESCRIPTION:Baptisms will be held at the 9am &amp\; 11am service. If you ar
 e interested in being baptized\, there will be a sign-up sheet in the chur
 ch lobby\, or you can contact Mariette in the church office at (937) 492-6
 412.
LAST-MODIFIED:20260419T122118
LOCATION:Russell Road Church
SUMMARY:Baptisms
URL;VALUE=URI:https://www.russellroadchurch.com/events/baptisms--159/2026-0
 5-17
ATTACH;FILENAME=BAPTISMS-I%27ve-been-changed.jpg;FMTTYPE=image/jpeg:https:/
 /dq5pwpg1q8ru0.cloudfront.net/2026/04/19/16/17/25/2209e5ea-c7ec-4622-b23f-
 56897f28a15e/BAPTISMS-I%2527ve-been-changed.jpg
END:VEVENT
END:VCALENDAR
